BEGIN:VCALENDAR
VERSION:2.0
CALSCALE:GREGORIAN
PRODID:-//Diputació de Barcelona//DibaCMS//EN
BEGIN:VEVENT
UID:54006
DTSTAMP:20260426T042822
DTSTART:20180915T184500
DTEND:20180915T184500
SUMMARY:Lliurament dels premis del concurs "Instagram #fmllinars18"
LOCATION:Av. Pau Casals, 22-24 (Àrea central) 08450 Llinars del Vallès
METHOD:PUBLISH
X-WR-CALNAME:info@llinarsdelvalles.cat
X-WR-TIMEZONE:Europe/Madrid
DESCRIPTION:
URI:https://www.llinarsdelvalles.cat/actualitat/agenda/lliurament-dels-premis-del-concurs-instagram-fmllinars18.html
CLASS:PUBLIC
END:VEVENT
END:VCALENDAR
