BEGIN:VCALENDAR
VERSION:2.0
CALSCALE:GREGORIAN
PRODID:-//Diputació de Barcelona//DibaCMS//EN
BEGIN:VEVENT
UID:54007
DTSTAMP:20260426T041304
DTSTART:20180915T190000
DTEND:20180915T190000
SUMMARY:Presentació del DVD "Llinars, vinguts d'arreu"
LOCATION:Av. Pau Casals, 22-24 (Àrea central) 08450 Llinars del Vallès
METHOD:PUBLISH
X-WR-CALNAME:info@llinarsdelvalles.cat
X-WR-TIMEZONE:Europe/Madrid
DESCRIPTION:
URI:https://www.llinarsdelvalles.cat/actualitat/agenda/presentacio-del-dvd-llinars-vinguts-darreu.html
CLASS:PUBLIC
END:VEVENT
END:VCALENDAR
