BEGIN:VCALENDAR
VERSION:2.0
CALSCALE:GREGORIAN
PRODID:-//Diputació de Barcelona//DibaCMS//EN
BEGIN:VEVENT
UID:54008
DTSTAMP:20260425T201112
DTSTART:20180915T213000
DTEND:20180915T213000
SUMMARY:Concert d'havaneres a càrrec de la Coral Turó del Vent amb rom cremat 
LOCATION:Plaça de Santa Maria 
METHOD:PUBLISH
X-WR-CALNAME:info@llinarsdelvalles.cat
X-WR-TIMEZONE:Europe/Madrid
DESCRIPTION:
URI:https://www.llinarsdelvalles.cat/actualitat/agenda/concert-dhavaneres-a-carrec-de-la-coral-turo-del-vent-amb-rom-cremat-.html
CLASS:PUBLIC
END:VEVENT
END:VCALENDAR
