BEGIN:VCALENDAR
VERSION:2.0
CALSCALE:GREGORIAN
PRODID:-//Diputació de Barcelona//DibaCMS//EN
BEGIN:VEVENT
UID:54009
DTSTAMP:20260425T200816
DTSTART:20180916T180000
DTEND:20180916T180000
SUMMARY:Teatre "Es rifa un home" a càrrec del grup la Clau Màgica del Teatre
LOCATION:Capella de Can Mas Bagà 
METHOD:PUBLISH
X-WR-CALNAME:info@llinarsdelvalles.cat
X-WR-TIMEZONE:Europe/Madrid
DESCRIPTION:
URI:https://www.llinarsdelvalles.cat/actualitat/agenda/teatre-es-rifa-un-home-a-carrec-del-grup-la-clau-magica-del-teatre.html
CLASS:PUBLIC
END:VEVENT
END:VCALENDAR
