BEGIN:VCALENDAR
VERSION:2.0
CALSCALE:GREGORIAN
PRODID:-//Diputació de Barcelona//DibaCMS//EN
BEGIN:VEVENT
UID:54010
DTSTAMP:20260425T225018
DTSTART:20180922T110000
DTEND:20180922T110000
SUMMARY:Presentació del llibre "10 anys de l'associació de Dones"
LOCATION:C/ Josep Argila, 39 08450 Llinars del Vallés
METHOD:PUBLISH
X-WR-CALNAME:info@llinarsdelvalles.cat
X-WR-TIMEZONE:Europe/Madrid
DESCRIPTION:
URI:https://www.llinarsdelvalles.cat/actualitat/agenda/presentacio-del-llibre-10-anys-de-lassociacio-de-dones.html
CLASS:PUBLIC
END:VEVENT
END:VCALENDAR
