BEGIN:VCALENDAR
VERSION:2.0
CALSCALE:GREGORIAN
PRODID:-//Diputació de Barcelona//DibaCMS//EN
BEGIN:VEVENT
UID:54011
DTSTAMP:20260425T174543
DTSTART:20180929T190000
DTEND:20180929T190000
SUMMARY:Teatre "El retaule del Flautista" de Jordi Teixidor, a càrrec del grup de teatre Ai!... Si no fos!
LOCATION:Ronda Sant Antoni, 19 08450 Llinars del Vallès
METHOD:PUBLISH
X-WR-CALNAME:info@llinarsdelvalles.cat
X-WR-TIMEZONE:Europe/Madrid
DESCRIPTION:
URI:https://www.llinarsdelvalles.cat/actualitat/agenda/teatre-el-retaule-del-flautista-de-jordi-teixidor-a-carrec-del-grup-de-teatre-ai-si-no-fos.html
CLASS:PUBLIC
END:VEVENT
END:VCALENDAR
