BEGIN:VCALENDAR
VERSION:2.0
CALSCALE:GREGORIAN
PRODID:-//Diputació de Barcelona//DibaCMS//EN
BEGIN:VEVENT
UID:54012
DTSTAMP:20260425T201010
DTSTART:20180929T230000
DTEND:20180929T230000
SUMMARY:Concert dels Mojinos Escozíos "Los más grandes"
LOCATION:Carpa de l'Àrea Central 
METHOD:PUBLISH
X-WR-CALNAME:info@llinarsdelvalles.cat
X-WR-TIMEZONE:Europe/Madrid
DESCRIPTION:
URI:https://www.llinarsdelvalles.cat/actualitat/agenda/concert-dels-mojinos-escozios-los-mas-grandes.html
CLASS:PUBLIC
END:VEVENT
END:VCALENDAR
