BEGIN:VCALENDAR
VERSION:2.0
CALSCALE:GREGORIAN
PRODID:-//Diputació de Barcelona//DibaCMS//EN
BEGIN:VEVENT
UID:54013
DTSTAMP:20260425T184834
DTSTART:20180909T180000
DTEND:20180909T180000
SUMMARY:La Ratera d'Agatha Christie
LOCATION:Ronda Sant Antoni, 19 08450 Llinars del Vallès
METHOD:PUBLISH
X-WR-CALNAME:info@llinarsdelvalles.cat
X-WR-TIMEZONE:Europe/Madrid
DESCRIPTION:
URI:https://www.llinarsdelvalles.cat/actualitat/agenda/la-ratera-dagatha-christie.html
CLASS:PUBLIC
END:VEVENT
END:VCALENDAR
