BEGIN:VCALENDAR
VERSION:2.0
CALSCALE:GREGORIAN
PRODID:-//Diputació de Barcelona//DibaCMS//EN
BEGIN:VEVENT
UID:54014
DTSTAMP:20260425T183835
DTSTART:20180921T200000
DTEND:20180921T200000
SUMMARY:Èdip de Sòfocles amb Julio Manrique i Mercè Pons
LOCATION:Ronda Sant Antoni, 19 08450 Llinars del Vallès
METHOD:PUBLISH
X-WR-CALNAME:info@llinarsdelvalles.cat
X-WR-TIMEZONE:Europe/Madrid
DESCRIPTION:
URI:https://www.llinarsdelvalles.cat/actualitat/agenda/edip-de-sofocles-amb-julio-manrique-i-merce-pons.html
CLASS:PUBLIC
END:VEVENT
END:VCALENDAR
