BEGIN:VCALENDAR
VERSION:2.0
CALSCALE:GREGORIAN
PRODID:-//Diputació de Barcelona//DibaCMS//EN
BEGIN:VEVENT
UID:54015
DTSTAMP:20260425T212712
DTSTART:20180923T100000
DTEND:20180923T100000
SUMMARY:Little Night - Imaginart - Teatre familiar per a nens i nenes d'1 a 3 anys
LOCATION:Ronda Sant Antoni, 19 08450 Llinars del Vallès
METHOD:PUBLISH
X-WR-CALNAME:info@llinarsdelvalles.cat
X-WR-TIMEZONE:Europe/Madrid
DESCRIPTION:Tres sessions: 10 h, 11 h i 12 h

URI:https://www.llinarsdelvalles.cat/actualitat/agenda/little-night-imaginart-teatre-familiar-per-a-nens-i-nenes-d1-a-3-anys.html
CLASS:PUBLIC
END:VEVENT
END:VCALENDAR
