BEGIN:VCALENDAR
VERSION:2.0
CALSCALE:GREGORIAN
PRODID:-//Diputació de Barcelona//DibaCMS//EN
BEGIN:VEVENT
UID:54018
DTSTAMP:20260426T025030
DTSTART:20180923T180000
DTEND:20180923T180000
SUMMARY:Virtuosisme i romanticisme - "Arts String Quartet" amb Darko Brlek, clarinet
LOCATION:Ronda Sant Antoni, 19 08450 Llinars del Vallès
METHOD:PUBLISH
X-WR-CALNAME:info@llinarsdelvalles.cat
X-WR-TIMEZONE:Europe/Madrid
DESCRIPTION:
URI:https://www.llinarsdelvalles.cat/actualitat/agenda/virtuosisme-i-romanticisme-arts-string-quartet-amb-darko-brlek-clarinet.html
CLASS:PUBLIC
END:VEVENT
END:VCALENDAR
