BEGIN:VCALENDAR
VERSION:2.0
CALSCALE:GREGORIAN
PRODID:-//Diputació de Barcelona//DibaCMS//EN
BEGIN:VEVENT
UID:54033
DTSTAMP:20260425T200300
DTSTART:20180908T183000
DTEND:20180930T140000
SUMMARY:Exposició col·lectiva a l'Espai Ruscalleda Art
LOCATION:Espai Ruscalleda Art
C/ Major 32, 1r 1a

 
METHOD:PUBLISH
X-WR-CALNAME:info@llinarsdelvalles.cat
X-WR-TIMEZONE:Europe/Madrid
DESCRIPTION: 

 

URI:https://www.llinarsdelvalles.cat/actualitat/agenda/exposicio-collectiva-a-lespai-ruscalleda-art.html
CLASS:PUBLIC
END:VEVENT
END:VCALENDAR
