BEGIN:VCALENDAR
VERSION:2.0
CALSCALE:GREGORIAN
PRODID:-//Diputació de Barcelona//DibaCMS//EN
BEGIN:VEVENT
UID:54042
DTSTAMP:20260425T184930
DTSTART:20180910T163000
DTEND:20180910T163000
SUMMARY:Activitat d'última hora de Festa Major: visita a les excavacions del Turó del Vent i Can Suari
LOCATION:Turó del Vent 
METHOD:PUBLISH
X-WR-CALNAME:info@llinarsdelvalles.cat
X-WR-TIMEZONE:Europe/Madrid
DESCRIPTION:A càrrec de l'arqueòleg Eric Sobrevia

URI:https://www.llinarsdelvalles.cat/actualitat/agenda/activitat-dultima-hora-de-festa-major-visita-a-les-excavacions-del-turo-del-vent-i-can-suari.html
CLASS:PUBLIC
END:VEVENT
END:VCALENDAR
