BEGIN:VCALENDAR
VERSION:2.0
CALSCALE:GREGORIAN
PRODID:-//Diputació de Barcelona//DibaCMS//EN
BEGIN:VEVENT
UID:54073
DTSTAMP:20260425T201032
DTSTART:20180928T000000
DTEND:20180928T000000
SUMMARY:TALLER DE PINTURA amb vi a càrrec de Marta Arañó. Biblioteques amb DO
LOCATION:
METHOD:PUBLISH
X-WR-CALNAME:info@llinarsdelvalles.cat
X-WR-TIMEZONE:Europe/Madrid
DESCRIPTION:
URI:https://www.llinarsdelvalles.cat/actualitat/agenda/54073-taller-de-pintura-amb-vi-a-carrec-de-marta-arano-biblioteques-amb-do.html
CLASS:PUBLIC
END:VEVENT
END:VCALENDAR
