BEGIN:VCALENDAR
VERSION:2.0
CALSCALE:GREGORIAN
PRODID:-//Diputació de Barcelona//DibaCMS//EN
BEGIN:VEVENT
UID:54074
DTSTAMP:20260425T183757
DTSTART:20181005T190000
DTEND:20181005T190000
SUMMARY:TALLER DE PINTURA amb vi a càrrec de Marta Arañó. Biblioteques amb DO
LOCATION:Av. Pau Casals, 26 08450 Llinars del Vallès
METHOD:PUBLISH
X-WR-CALNAME:info@llinarsdelvalles.cat
X-WR-TIMEZONE:Europe/Madrid
DESCRIPTION:
URI:https://www.llinarsdelvalles.cat/actualitat/agenda/54074-taller-de-pintura-amb-vi-a-carrec-de-marta-arano-biblioteques-amb-do.html
CLASS:PUBLIC
END:VEVENT
END:VCALENDAR
