BEGIN:VCALENDAR
VERSION:2.0
CALSCALE:GREGORIAN
PRODID:-//Diputació de Barcelona//DibaCMS//EN
BEGIN:VEVENT
UID:54075
DTSTAMP:20260425T172359
DTSTART:20181006T103000
DTEND:20181006T103000
SUMMARY:CLUB DE LECTURA. GRUP A “Argelagues” de Gemma Ruiz a càrrec de Jose Luis Ibáñez
LOCATION:Av. Pau Casals, 26 08450 Llinars del Vallès
METHOD:PUBLISH
X-WR-CALNAME:info@llinarsdelvalles.cat
X-WR-TIMEZONE:Europe/Madrid
DESCRIPTION:
URI:https://www.llinarsdelvalles.cat/actualitat/agenda/club-de-lectura-grup-a-argelagues-de-gemma-ruiz-a-carrec-de-jose-luis-ibanez.html
CLASS:PUBLIC
END:VEVENT
END:VCALENDAR
