BEGIN:VCALENDAR
VERSION:2.0
CALSCALE:GREGORIAN
PRODID:-//Diputació de Barcelona//DibaCMS//EN
BEGIN:VEVENT
UID:54076
DTSTAMP:20260425T200943
DTSTART:20181006T103000
DTEND:20181006T103000
SUMMARY:VIII JORNADES ESPORTIVES "Fes salut per la salut mental"
LOCATION:
METHOD:PUBLISH
X-WR-CALNAME:info@llinarsdelvalles.cat
X-WR-TIMEZONE:Europe/Madrid
DESCRIPTION:
URI:https://www.llinarsdelvalles.cat/actualitat/agenda/viii-jornades-esportives-fes-salut-per-la-salut-mental.html
CLASS:PUBLIC
END:VEVENT
END:VCALENDAR
