BEGIN:VCALENDAR
VERSION:2.0
CALSCALE:GREGORIAN
PRODID:-//Diputació de Barcelona//DibaCMS//EN
BEGIN:VEVENT
UID:54086
DTSTAMP:20260425T195503
DTSTART:20181007T093000
DTEND:20181007T093000
SUMMARY:PASSEJADES PEL PARC DEL MONTNEGRE I CORREDOR “El grameneu: paisatge en transformació”
LOCATION:
METHOD:PUBLISH
X-WR-CALNAME:info@llinarsdelvalles.cat
X-WR-TIMEZONE:Europe/Madrid
DESCRIPTION:
URI:https://www.llinarsdelvalles.cat/actualitat/agenda/passejades-pel-parc-del-montnegre-i-corredor-el-grameneu-paisatge-en-transformacio.html
CLASS:PUBLIC
END:VEVENT
END:VCALENDAR
