BEGIN:VCALENDAR
VERSION:2.0
CALSCALE:GREGORIAN
PRODID:-//Diputació de Barcelona//DibaCMS//EN
BEGIN:VEVENT
UID:54087
DTSTAMP:20260425T195812
DTSTART:20181007T100000
DTEND:20181007T100000
SUMMARY:MERCAT BOIG
LOCATION:
METHOD:PUBLISH
X-WR-CALNAME:info@llinarsdelvalles.cat
X-WR-TIMEZONE:Europe/Madrid
DESCRIPTION:
URI:https://www.llinarsdelvalles.cat/actualitat/agenda/mercat-boig.html
CLASS:PUBLIC
END:VEVENT
END:VCALENDAR
