BEGIN:VCALENDAR
VERSION:2.0
CALSCALE:GREGORIAN
PRODID:-//Diputació de Barcelona//DibaCMS//EN
BEGIN:VEVENT
UID:54088
DTSTAMP:20260425T195601
DTSTART:20181007T110000
DTEND:20181007T110000
SUMMARY:MÚSICA FAMILIAR “Reggae per Xics” a càrrec de The Penguins
LOCATION:Ronda Sant Antoni, 19 08450 Llinars del Vallès
METHOD:PUBLISH
X-WR-CALNAME:info@llinarsdelvalles.cat
X-WR-TIMEZONE:Europe/Madrid
DESCRIPTION:Porta els nens a ballar i ballaràs tu! Un concert de reggae on tothom és innocent, feliç i lliure.

URI:https://www.llinarsdelvalles.cat/actualitat/agenda/musica-familiar-reggae-per-xics-a-carrec-de-the-penguins.html
CLASS:PUBLIC
END:VEVENT
END:VCALENDAR
