BEGIN:VCALENDAR
VERSION:2.0
CALSCALE:GREGORIAN
PRODID:-//Diputació de Barcelona//DibaCMS//EN
BEGIN:VEVENT
UID:54090
DTSTAMP:20260425T174818
DTSTART:20181010T170000
DTEND:20181010T170000
SUMMARY:TAULA RODONA. Es parlarà dels actes entorn al 25 de novembre, dia contra la violència de gènere
LOCATION:
METHOD:PUBLISH
X-WR-CALNAME:info@llinarsdelvalles.cat
X-WR-TIMEZONE:Europe/Madrid
DESCRIPTION:
URI:https://www.llinarsdelvalles.cat/actualitat/agenda/taula-rodona-es-parlara-dels-actes-entorn-al-25-de-novembre-dia-contra-la-violencia-de-genere.html
CLASS:PUBLIC
END:VEVENT
END:VCALENDAR
