BEGIN:VCALENDAR
VERSION:2.0
CALSCALE:GREGORIAN
PRODID:-//Diputació de Barcelona//DibaCMS//EN
BEGIN:VEVENT
UID:54091
DTSTAMP:20260425T174833
DTSTART:20181015T190000
DTEND:20181015T190000
SUMMARY:LLEGIR EL TEATRE “Els jocs florals de Canprosa de Santiago Rusiñol” a càrrec de la periodista Cristina Fernández
LOCATION:Av. Pau Casals, 26 08450 Llinars del Vallès
METHOD:PUBLISH
X-WR-CALNAME:info@llinarsdelvalles.cat
X-WR-TIMEZONE:Europe/Madrid
DESCRIPTION:
URI:https://www.llinarsdelvalles.cat/actualitat/agenda/llegir-el-teatre-els-jocs-florals-de-canprosa-de-santiago-rusinol-a-carrec-de-la-periodista-cristina-fernandez.html
CLASS:PUBLIC
END:VEVENT
END:VCALENDAR
