BEGIN:VCALENDAR
VERSION:2.0
CALSCALE:GREGORIAN
PRODID:-//Diputació de Barcelona//DibaCMS//EN
BEGIN:VEVENT
UID:54092
DTSTAMP:20260425T162551
DTSTART:20181019T190000
DTEND:20181019T190000
SUMMARY:BIBART “La meva biblioteca” a càrrec de Laura Calero
LOCATION:
METHOD:PUBLISH
X-WR-CALNAME:info@llinarsdelvalles.cat
X-WR-TIMEZONE:Europe/Madrid
DESCRIPTION:
URI:https://www.llinarsdelvalles.cat/actualitat/agenda/bibart-la-meva-biblioteca-a-carrec-de-laura-calero.html
CLASS:PUBLIC
END:VEVENT
END:VCALENDAR
