BEGIN:VCALENDAR
VERSION:2.0
CALSCALE:GREGORIAN
PRODID:-//Diputació de Barcelona//DibaCMS//EN
BEGIN:VEVENT
UID:54093
DTSTAMP:20260425T161854
DTSTART:20181020T103000
DTEND:20181020T103000
SUMMARY:CLUB DE LECTURA. GRUP B “Argelagues” de Gemma Ruiz a càrrec de Jose Luis Ibáñez
LOCATION:
METHOD:PUBLISH
X-WR-CALNAME:info@llinarsdelvalles.cat
X-WR-TIMEZONE:Europe/Madrid
DESCRIPTION:
URI:https://www.llinarsdelvalles.cat/actualitat/agenda/club-de-lectura-grup-b-argelagues-de-gemma-ruiz-a-carrec-de-jose-luis-ibanez.html
CLASS:PUBLIC
END:VEVENT
END:VCALENDAR
