BEGIN:VCALENDAR
VERSION:2.0
CALSCALE:GREGORIAN
PRODID:-//Diputació de Barcelona//DibaCMS//EN
BEGIN:VEVENT
UID:54094
DTSTAMP:20260425T201226
DTSTART:20181020T110000
DTEND:20181020T110000
SUMMARY:CELEBRACIÓ DEL 10è aniversari del PUNT DONA
LOCATION:C/ Josep Argila, 39 08450 Llinars del Vallés
METHOD:PUBLISH
X-WR-CALNAME:info@llinarsdelvalles.cat
X-WR-TIMEZONE:Europe/Madrid
DESCRIPTION:
URI:https://www.llinarsdelvalles.cat/actualitat/agenda/celebracio-del-10e-aniversari-del-punt-dona.html
CLASS:PUBLIC
END:VEVENT
END:VCALENDAR
