BEGIN:VCALENDAR
VERSION:2.0
CALSCALE:GREGORIAN
PRODID:-//Diputació de Barcelona//DibaCMS//EN
BEGIN:VEVENT
UID:54098
DTSTAMP:20260425T172532
DTSTART:20181020T220000
DTEND:20181020T220000
SUMMARY:CONCERT del grup "Tirando Sillas"
LOCATION:
METHOD:PUBLISH
X-WR-CALNAME:info@llinarsdelvalles.cat
X-WR-TIMEZONE:Europe/Madrid
DESCRIPTION:Organitza: Associació Dones de Llinars

URI:https://www.llinarsdelvalles.cat/actualitat/agenda/concert-del-grup-tirando-sillas.html
CLASS:PUBLIC
END:VEVENT
END:VCALENDAR
