BEGIN:VCALENDAR
VERSION:2.0
CALSCALE:GREGORIAN
PRODID:-//Diputació de Barcelona//DibaCMS//EN
BEGIN:VEVENT
UID:54099
DTSTAMP:20260426T025737
DTSTART:20181021T090000
DTEND:20181021T090000
SUMMARY:IV TORRASSA XTREM 
LOCATION:
METHOD:PUBLISH
X-WR-CALNAME:info@llinarsdelvalles.cat
X-WR-TIMEZONE:Europe/Madrid
DESCRIPTION:
URI:https://www.llinarsdelvalles.cat/actualitat/agenda/iv-torrassa-xtrem-.html
CLASS:PUBLIC
END:VEVENT
END:VCALENDAR
