BEGIN:VCALENDAR
VERSION:2.0
CALSCALE:GREGORIAN
PRODID:-//Diputació de Barcelona//DibaCMS//EN
BEGIN:VEVENT
UID:54100
DTSTAMP:20260426T041245
DTSTART:20181021T180000
DTEND:20181021T180000
SUMMARY:MÚSICA “And the winner is...” Música de pel·lícules 
LOCATION:Ronda Sant Antoni, 19 08450 Llinars del Vallès
METHOD:PUBLISH
X-WR-CALNAME:info@llinarsdelvalles.cat
X-WR-TIMEZONE:Europe/Madrid
DESCRIPTION:
URI:https://www.llinarsdelvalles.cat/actualitat/agenda/musica-and-the-winner-is-musica-de-pellicules-.html
CLASS:PUBLIC
END:VEVENT
END:VCALENDAR
