BEGIN:VCALENDAR
VERSION:2.0
CALSCALE:GREGORIAN
PRODID:-//Diputació de Barcelona//DibaCMS//EN
BEGIN:VEVENT
UID:54101
DTSTAMP:20260425T190041
DTSTART:20181026T180000
DTEND:20181026T180000
SUMMARY:L’HORA DEL CONTE “Contes de petits i eixerits” a càrrec de Marta Esmarats de la CIA Rondallaire 
LOCATION:Av. Pau Casals, 26 08450 Llinars del Vallès
METHOD:PUBLISH
X-WR-CALNAME:info@llinarsdelvalles.cat
X-WR-TIMEZONE:Europe/Madrid
DESCRIPTION:
URI:https://www.llinarsdelvalles.cat/actualitat/agenda/lhora-del-conte-contes-de-petits-i-eixerits-a-carrec-de-marta-esmarats-de-la-cia-rondallaire-.html
CLASS:PUBLIC
END:VEVENT
END:VCALENDAR
