BEGIN:VCALENDAR
VERSION:2.0
CALSCALE:GREGORIAN
PRODID:-//Diputació de Barcelona//DibaCMS//EN
BEGIN:VEVENT
UID:54103
DTSTAMP:20260425T185616
DTSTART:20181006T130000
DTEND:20181006T130000
SUMMARY:L'HORA DEL CONTE especial en motiu de la VIII Jornada 'Fes Salut per la Salut Mental'
LOCATION:Av. Pau Casals, 26 08450 Llinars del Vallès
METHOD:PUBLISH
X-WR-CALNAME:info@llinarsdelvalles.cat
X-WR-TIMEZONE:Europe/Madrid
DESCRIPTION:A càrrec de "La Màgia de les Paraules" contes narrats amb valor.

URI:https://www.llinarsdelvalles.cat/actualitat/agenda/lhora-del-conte-especial-en-motiu-de-la-viii-jornada-fes-salut-per-la-salut-mental.html
CLASS:PUBLIC
END:VEVENT
END:VCALENDAR
