BEGIN:VCALENDAR
VERSION:2.0
CALSCALE:GREGORIAN
PRODID:-//Diputació de Barcelona//DibaCMS//EN
BEGIN:VEVENT
UID:54104
DTSTAMP:20260425T162752
DTSTART:20181006T110000
DTEND:20181007T110000
SUMMARY:FIREPEMU Fira de Recursos Pedagògics Musicals al Teatre Auditori de Llinars
LOCATION:Ronda Sant Antoni, 19 08450 Llinars del Vallès
METHOD:PUBLISH
X-WR-CALNAME:info@llinarsdelvalles.cat
X-WR-TIMEZONE:Europe/Madrid
DESCRIPTION:Festa de la Música en família!

URI:https://www.llinarsdelvalles.cat/actualitat/agenda/firepemu-fira-de-recursos-pedagogics-musicals-al-teatre-auditori-de-llinars.html
CLASS:PUBLIC
END:VEVENT
END:VCALENDAR
