BEGIN:VCALENDAR
VERSION:2.0
CALSCALE:GREGORIAN
PRODID:-//Diputació de Barcelona//DibaCMS//EN
BEGIN:VEVENT
UID:54106
DTSTAMP:20260425T200138
DTSTART:20181027T200000
DTEND:20181027T200000
SUMMARY:TEATRE AUDITORI 'Sexe: què en sabem?' espectacle programat per l'Associació Dones de Llinars
LOCATION:Ronda Sant Antoni, 19 08450 Llinars del Vallès
METHOD:PUBLISH
X-WR-CALNAME:info@llinarsdelvalles.cat
X-WR-TIMEZONE:Europe/Madrid
DESCRIPTION:
URI:https://www.llinarsdelvalles.cat/actualitat/agenda/teatre-auditori-sexe-que-en-sabem-espectacle-programat-per-lassociacio-dones-de-llinars.html
CLASS:PUBLIC
END:VEVENT
END:VCALENDAR
