BEGIN:VCALENDAR
VERSION:2.0
CALSCALE:GREGORIAN
PRODID:-//Diputació de Barcelona//DibaCMS//EN
BEGIN:VEVENT
UID:54107
DTSTAMP:20260425T182728
DTSTART:20181108T190000
DTEND:20181108T190000
SUMMARY:XERRADA-TALLER: “Les microones i les ones de ràdio:  què són i com ens afecten?” A càrrec de Xavier Giménez Font de la Universitat de Barcelona
LOCATION:Av. Pau Casals, 26 08450 Llinars del Vallès
METHOD:PUBLISH
X-WR-CALNAME:info@llinarsdelvalles.cat
X-WR-TIMEZONE:Europe/Madrid
DESCRIPTION:
URI:https://www.llinarsdelvalles.cat/actualitat/agenda/xerrada-taller-les-microones-i-les-ones-de-radio-que-son-i-com-ens-afecten-a-carrec-de-xavier-gimenez-font-de-la-universitat-de-barcelona.html
CLASS:PUBLIC
END:VEVENT
END:VCALENDAR
