BEGIN:VCALENDAR
VERSION:2.0
CALSCALE:GREGORIAN
PRODID:-//Diputació de Barcelona//DibaCMS//EN
BEGIN:VEVENT
UID:54108
DTSTAMP:20260425T200955
DTSTART:20181028T110000
DTEND:20181028T110000
SUMMARY:TEATRE FAMILIAR: 'El Petit Dalí i el camí cap als somnis' d'Anna Obiols i Subi 
LOCATION:Ronda Sant Antoni, 19 08450 Llinars del Vallès
METHOD:PUBLISH
X-WR-CALNAME:info@llinarsdelvalles.cat
X-WR-TIMEZONE:Europe/Madrid
DESCRIPTION:Teatre amb cançons per a nens i nenes de més de 3 anys.

URI:https://www.llinarsdelvalles.cat/actualitat/agenda/teatre-familiar-el-petit-dali-i-el-cami-cap-als-somnis-danna-obiols-i-subi-.html
CLASS:PUBLIC
END:VEVENT
END:VCALENDAR
