BEGIN:VCALENDAR
VERSION:2.0
CALSCALE:GREGORIAN
PRODID:-//Diputació de Barcelona//DibaCMS//EN
BEGIN:VEVENT
UID:54109
DTSTAMP:20260425T183557
DTSTART:20181103T200000
DTEND:20181103T200000
SUMMARY:TEATRE AUDITORI: 'El Secret de la Lloll' amb Lloll Bertran
LOCATION:Ronda Sant Antoni, 19 08450 Llinars del Vallès
METHOD:PUBLISH
X-WR-CALNAME:info@llinarsdelvalles.cat
X-WR-TIMEZONE:Europe/Madrid
DESCRIPTION:
URI:https://www.llinarsdelvalles.cat/actualitat/agenda/teatre-auditori-el-secret-de-la-lloll-amb-lloll-bertran.html
CLASS:PUBLIC
END:VEVENT
END:VCALENDAR
