BEGIN:VCALENDAR
VERSION:2.0
CALSCALE:GREGORIAN
PRODID:-//Diputació de Barcelona//DibaCMS//EN
BEGIN:VEVENT
UID:54110
DTSTAMP:20260425T182835
DTSTART:20181110T200000
DTEND:20181110T200000
SUMMARY:TEATRE AUDITORI: Mazoni en concert 'Carn, os i tot inclòs'
LOCATION:Ronda Sant Antoni, 19 08450 Llinars del Vallès
METHOD:PUBLISH
X-WR-CALNAME:info@llinarsdelvalles.cat
X-WR-TIMEZONE:Europe/Madrid
DESCRIPTION:
URI:https://www.llinarsdelvalles.cat/actualitat/agenda/teatre-auditori-mazoni-en-concert-carn-os-i-tot-inclos.html
CLASS:PUBLIC
END:VEVENT
END:VCALENDAR
