BEGIN:VCALENDAR
VERSION:2.0
CALSCALE:GREGORIAN
PRODID:-//Diputació de Barcelona//DibaCMS//EN
BEGIN:VEVENT
UID:54111
DTSTAMP:20260425T233203
DTSTART:20181123T200000
DTEND:20181123T200000
SUMMARY:CINEMA CLÀSSIC EN V.O.S.E. 'Gilda' de Charles Vidor
LOCATION:Ronda Sant Antoni, 19 08450 Llinars del Vallès
METHOD:PUBLISH
X-WR-CALNAME:info@llinarsdelvalles.cat
X-WR-TIMEZONE:Europe/Madrid
DESCRIPTION:
URI:https://www.llinarsdelvalles.cat/actualitat/agenda/cinema-classic-en-vose-gilda-de-charles-vidor.html
CLASS:PUBLIC
END:VEVENT
END:VCALENDAR
