BEGIN:VCALENDAR
VERSION:2.0
CALSCALE:GREGORIAN
PRODID:-//Diputació de Barcelona//DibaCMS//EN
BEGIN:VEVENT
UID:54112
DTSTAMP:20260425T212729
DTSTART:20181012T203000
DTEND:20181012T203000
SUMMARY:4 MICROTEATRES 4 a càrrec de la companyia 'lacondal'
LOCATION:Espai Ruscalleda Art
C/ Major, 32
Llinars del Vallès  
METHOD:PUBLISH
X-WR-CALNAME:info@llinarsdelvalles.cat
X-WR-TIMEZONE:Europe/Madrid
DESCRIPTION:
URI:https://www.llinarsdelvalles.cat/actualitat/agenda/4-microteatres-4-a-carrec-de-la-companyia-lacondal.html
CLASS:PUBLIC
END:VEVENT
END:VCALENDAR
