BEGIN:VCALENDAR
VERSION:2.0
CALSCALE:GREGORIAN
PRODID:-//Diputació de Barcelona//DibaCMS//EN
BEGIN:VEVENT
UID:54113
DTSTAMP:20260425T183008
DTSTART:20181124T200000
DTEND:20181124T200000
SUMMARY:TEATRE FLAMENC 'Federico García' direcció de Pep Tosar
LOCATION:Ronda Sant Antoni, 19 08450 Llinars del Vallès
METHOD:PUBLISH
X-WR-CALNAME:info@llinarsdelvalles.cat
X-WR-TIMEZONE:Europe/Madrid
DESCRIPTION:
URI:https://www.llinarsdelvalles.cat/actualitat/agenda/teatre-flamenc-federico-garcia-direccio-de-pep-tosar.html
CLASS:PUBLIC
END:VEVENT
END:VCALENDAR
