BEGIN:VCALENDAR
VERSION:2.0
CALSCALE:GREGORIAN
PRODID:-//Diputació de Barcelona//DibaCMS//EN
BEGIN:VEVENT
UID:54114
DTSTAMP:20260425T194703
DTSTART:20181125T110000
DTEND:20181125T110000
SUMMARY:TEATRE FAMILIAR 'Els cistells de la Caputxeta' amb Samfaina de Colors
LOCATION:Ronda Sant Antoni, 19 08450 Llinars del Vallès
METHOD:PUBLISH
X-WR-CALNAME:info@llinarsdelvalles.cat
X-WR-TIMEZONE:Europe/Madrid
DESCRIPTION:
URI:https://www.llinarsdelvalles.cat/actualitat/agenda/teatre-familiar-els-cistells-de-la-caputxeta-amb-samfaina-de-colors.html
CLASS:PUBLIC
END:VEVENT
END:VCALENDAR
