BEGIN:VCALENDAR
VERSION:2.0
CALSCALE:GREGORIAN
PRODID:-//Diputació de Barcelona//DibaCMS//EN
BEGIN:VEVENT
UID:54115
DTSTAMP:20260425T194250
DTSTART:20181125T180000
DTEND:20181125T180000
SUMMARY:MÚSICA CLÀSSICA Concert de Josep Martí Cristià 'El somni d'un poeta'
LOCATION:Ronda Sant Antoni, 19 08450 Llinars del Vallès
METHOD:PUBLISH
X-WR-CALNAME:info@llinarsdelvalles.cat
X-WR-TIMEZONE:Europe/Madrid
DESCRIPTION:Daniel Blanch al piano i la veu de Sergi Mateu.

URI:https://www.llinarsdelvalles.cat/actualitat/agenda/musica-classica-concert-de-josep-marti-cristia-el-somni-dun-poeta.html
CLASS:PUBLIC
END:VEVENT
END:VCALENDAR
