BEGIN:VCALENDAR
VERSION:2.0
CALSCALE:GREGORIAN
PRODID:-//Diputació de Barcelona//DibaCMS//EN
BEGIN:VEVENT
UID:54116
DTSTAMP:20260425T170030
DTSTART:20181209T180000
DTEND:20181209T180000
SUMMARY:TEATRE AUDITORI: 'La Resposta' direcció de Sílvia Munt
LOCATION:Ronda Sant Antoni, 19 08450 Llinars del Vallès
METHOD:PUBLISH
X-WR-CALNAME:info@llinarsdelvalles.cat
X-WR-TIMEZONE:Europe/Madrid
DESCRIPTION:
URI:https://www.llinarsdelvalles.cat/actualitat/agenda/teatre-auditori-la-resposta-direccio-de-silvia-munt.html
CLASS:PUBLIC
END:VEVENT
END:VCALENDAR
