BEGIN:VCALENDAR
VERSION:2.0
CALSCALE:GREGORIAN
PRODID:-//Diputació de Barcelona//DibaCMS//EN
BEGIN:VEVENT
UID:54117
DTSTAMP:20260425T160216
DTSTART:20181214T200000
DTEND:20181214T200000
SUMMARY:CINEMA CLÀSSIC EN V.O.S.E. 'Ningú no és perfecte!' de Billy Wilde
LOCATION:Ronda Sant Antoni, 19 08450 Llinars del Vallès
METHOD:PUBLISH
X-WR-CALNAME:info@llinarsdelvalles.cat
X-WR-TIMEZONE:Europe/Madrid
DESCRIPTION:Amb Marilyn Monroe, Jack Lemmon i Tony Curtis

URI:https://www.llinarsdelvalles.cat/actualitat/agenda/cinema-classic-en-vose-ningu-no-es-perfecte-de-billy-wilde.html
CLASS:PUBLIC
END:VEVENT
END:VCALENDAR
