BEGIN:VCALENDAR
VERSION:2.0
CALSCALE:GREGORIAN
PRODID:-//Diputació de Barcelona//DibaCMS//EN
BEGIN:VEVENT
UID:54118
DTSTAMP:20260425T183035
DTSTART:20181215T180000
DTEND:20181215T180000
SUMMARY:DANSA TRADICIONAL 'Dansem en català' Esbart Dansaire de Llinars
LOCATION:Ronda Sant Antoni, 19 08450 Llinars del Vallès
METHOD:PUBLISH
X-WR-CALNAME:info@llinarsdelvalles.cat
X-WR-TIMEZONE:Europe/Madrid
DESCRIPTION:
URI:https://www.llinarsdelvalles.cat/actualitat/agenda/dansa-tradicional-dansem-en-catala-esbart-dansaire-de-llinars.html
CLASS:PUBLIC
END:VEVENT
END:VCALENDAR
