BEGIN:VCALENDAR
VERSION:2.0
CALSCALE:GREGORIAN
PRODID:-//Diputació de Barcelona//DibaCMS//EN
BEGIN:VEVENT
UID:54119
DTSTAMP:20260425T171850
DTSTART:20181223T170000
DTEND:20181223T190000
SUMMARY:BALLET 'Quadres d'una exposció' Centre de Dansa de Catalunya
LOCATION:Ronda Sant Antoni, 19 08450 Llinars del Vallès
METHOD:PUBLISH
X-WR-CALNAME:info@llinarsdelvalles.cat
X-WR-TIMEZONE:Europe/Madrid
DESCRIPTION:Dues sessions: a les 17 h i a les 19 h

URI:https://www.llinarsdelvalles.cat/actualitat/agenda/ballet-quadres-duna-exposcio-centre-de-dansa-de-catalunya.html
CLASS:PUBLIC
END:VEVENT
END:VCALENDAR
