BEGIN:VCALENDAR
VERSION:2.0
CALSCALE:GREGORIAN
PRODID:-//Diputació de Barcelona//DibaCMS//EN
BEGIN:VEVENT
UID:54120
DTSTAMP:20260425T144602
DTSTART:20181226T180000
DTEND:20181226T180000
SUMMARY:TEATRE AUDITORI: 'Els Pastorets' Torna el clàssic!
LOCATION:Ronda Sant Antoni, 19 08450 Llinars del Vallès
METHOD:PUBLISH
X-WR-CALNAME:info@llinarsdelvalles.cat
X-WR-TIMEZONE:Europe/Madrid
DESCRIPTION:
URI:https://www.llinarsdelvalles.cat/actualitat/agenda/teatre-auditori-els-pastorets-torna-el-classic.html
CLASS:PUBLIC
END:VEVENT
END:VCALENDAR
