BEGIN:VCALENDAR
VERSION:2.0
CALSCALE:GREGORIAN
PRODID:-//Diputació de Barcelona//DibaCMS//EN
BEGIN:VEVENT
UID:54122
DTSTAMP:20260426T030219
DTSTART:20181019T203000
DTEND:20181020T203000
SUMMARY:4 MICROTEATRES 4 a càrrec de la companyia 'lacondal'
LOCATION:Espai Ruscalleda Art
C/ Major, 32
Llinars del Vallès  
METHOD:PUBLISH
X-WR-CALNAME:info@llinarsdelvalles.cat
X-WR-TIMEZONE:Europe/Madrid
DESCRIPTION:19 octubre - sessió a les 20.30 h 
20 octubre - dues sessions: a les 18.30 h i a les 20.30 h

URI:https://www.llinarsdelvalles.cat/actualitat/agenda/54122-4-microteatres-4-a-carrec-de-la-companyia-lacondal.html
CLASS:PUBLIC
END:VEVENT
END:VCALENDAR
