BEGIN:VCALENDAR
VERSION:2.0
CALSCALE:GREGORIAN
PRODID:-//Diputació de Barcelona//DibaCMS//EN
BEGIN:VEVENT
UID:54127
DTSTAMP:20260425T223759
DTSTART:20181019T193000
DTEND:20181019T193000
SUMMARY:9è aniversari de L'Esportiu
LOCATION:
METHOD:PUBLISH
X-WR-CALNAME:info@llinarsdelvalles.cat
X-WR-TIMEZONE:Europe/Madrid
DESCRIPTION:
URI:https://www.llinarsdelvalles.cat/actualitat/agenda/9e-aniversari-de-lesportiu.html
CLASS:PUBLIC
END:VEVENT
END:VCALENDAR
