BEGIN:VCALENDAR
VERSION:2.0
CALSCALE:GREGORIAN
PRODID:-//Diputació de Barcelona//DibaCMS//EN
BEGIN:VEVENT
UID:54147
DTSTAMP:20260425T185001
DTSTART:20181102T170000
DTEND:20181102T210000
SUMMARY:DONA EL MILLOR DE TU. Dona sang
LOCATION:C/ Josep Argila, 39 08450 Llinars del Vallés
METHOD:PUBLISH
X-WR-CALNAME:info@llinarsdelvalles.cat
X-WR-TIMEZONE:Europe/Madrid
DESCRIPTION:El banc de sang necessita doblar les donacions de 0 negatiu durant aquesta setmana!

URI:https://www.llinarsdelvalles.cat/actualitat/agenda/dona-el-millor-de-tu-dona-sang.html
CLASS:PUBLIC
END:VEVENT
END:VCALENDAR
