BEGIN:VCALENDAR
VERSION:2.0
CALSCALE:GREGORIAN
PRODID:-//Diputació de Barcelona//DibaCMS//EN
BEGIN:VEVENT
UID:54151
DTSTAMP:20260425T224540
DTSTART:20181031T173000
DTEND:20181031T173000
SUMMARY:BALL INFANTIL de Castanyada a càrrec del grup Trambòtics
LOCATION:Plaça dels Països Catalans 
METHOD:PUBLISH
X-WR-CALNAME:info@llinarsdelvalles.cat
X-WR-TIMEZONE:Europe/Madrid
DESCRIPTION:Degut a la pluja, es celebrarà al pavelló 1 d'Octubre.

URI:https://www.llinarsdelvalles.cat/actualitat/agenda/ball-infantil-de-castanyada-a-carrec-del-grup-trambotics.html
CLASS:PUBLIC
END:VEVENT
END:VCALENDAR
